BEGIN:VCALENDAR
VERSION:2.0
PRODID:-//Best Physiotherapy Center in Bengaluru - ECPv6.13.2.1//NONSGML v1.0//EN
CALSCALE:GREGORIAN
METHOD:PUBLISH
X-ORIGINAL-URL:https://physiomantra.in
X-WR-CALDESC:Events for Best Physiotherapy Center in Bengaluru
REFRESH-INTERVAL;VALUE=DURATION:PT1H
X-Robots-Tag:noindex
X-PUBLISHED-TTL:PT1H
BEGIN:VTIMEZONE
TZID:UTC
BEGIN:STANDARD
TZOFFSETFROM:+0000
TZOFFSETTO:+0000
TZNAME:UTC
DTSTART:20170101T000000
END:STANDARD
END:VTIMEZONE
BEGIN:VEVENT
DTSTART;TZID=UTC:20180908T100000
DTEND;TZID=UTC:20180908T160000
DTSTAMP:20260423T151123
CREATED:20180828T091302Z
LAST-MODIFIED:20180828T092609Z
UID:1060-1536400800-1536422400@physiomantra.in
SUMMARY:FREE Physiotherapy And Nutrition Assessment for Sports Injuries and Life style disorder conditions in Jayanagar\, Bangalore
DESCRIPTION:Don’t let an injury get in the way of living your life.When your doctor prescribes physical therapy for a surgical or non-surgical orthopedic injury (bone\, joint or muscle)\, be sure to ask about Physio Mantra : Sports Rehab center\, Jayanagar\, Bengaluru.\nWe are your Helping hands to help you get back on track.\nFrom pre-teens to seniors\, and anywhere in between\, our clinicians will work closely with your doctor to create a personalized treatment plan that is tailored to your injury and your individual needs. We offer one-on-one care in a relaxed\, friendly setting that is designed to get you back to yourself as quickly as possible.\nThis 8th September on World Physiotherapy Day\, we are providing Sports Injury And Life style Disorder Assessment by Sports Physiotherapists and Nutritionist.\nDon’t miss this chance and register soon as we have limited seats for this event.
URL:https://physiomantra.in/event/free-physiotherapy-and-nutrition-assessment-for-sports-injuries-and-life-style-disorder-conditions-in-jayanagar-bangalore/
ORGANIZER;CN="Physio Mantra":MAILTO:info@physiomantra.in
END:VEVENT
BEGIN:VEVENT
DTSTART;TZID=UTC:20170826T080000
DTEND;TZID=UTC:20170827T170000
DTSTAMP:20260423T151123
CREATED:20170626T121201Z
LAST-MODIFIED:20170626T121201Z
UID:862-1503734400-1503853200@physiomantra.in
SUMMARY:Pediatric IASTM Workshop In Malaysia
DESCRIPTION:
URL:https://physiomantra.in/event/pediatric-iastm-workshop-in-malaysia/
LOCATION:Amir’s Gim\, 8 Persiaran Damansara Endah\, Kuala Lumpur\, 50490\, Malaysia
ORGANIZER;CN="Physio Mantra":MAILTO:info@physiomantra.in
END:VEVENT
BEGIN:VEVENT
DTSTART;TZID=UTC:20170817T090000
DTEND;TZID=UTC:20170818T170000
DTSTAMP:20260423T151123
CREATED:20170705T034202Z
LAST-MODIFIED:20170705T034210Z
UID:879-1502960400-1503075600@physiomantra.in
SUMMARY:International Certification For Cupping Therapy
DESCRIPTION:
URL:https://physiomantra.in/event/international-certification-for-cupping-therapy/
LOCATION:Physio Mantra\, 3rd Block Jayanagar\, bangalore\, Karnataka\, India
ATTACH;FMTTYPE=image/jpeg:https://physiomantra.in/wp-content/uploads/2017/07/19748667_2024279941133809_2866193183128294365_n.jpg
ORGANIZER;CN="Physio Mantra":MAILTO:info@physiomantra.in
END:VEVENT
BEGIN:VEVENT
DTSTART;TZID=UTC:20170815T090000
DTEND;TZID=UTC:20170816T170000
DTSTAMP:20260423T151123
CREATED:20170705T033821Z
LAST-MODIFIED:20170705T033821Z
UID:873-1502787600-1502902800@physiomantra.in
SUMMARY:International Certification For IASTM Therapy
DESCRIPTION:
URL:https://physiomantra.in/event/international-certification-for-iastm-therapy/
LOCATION:Physio Mantra\, 3rd Block Jayanagar\, bangalore\, Karnataka\, India
ATTACH;FMTTYPE=image/jpeg:https://physiomantra.in/wp-content/uploads/2017/07/19601602_2024870601074743_4365529410413156172_n.jpg
ORGANIZER;CN="Physio Mantra":MAILTO:info@physiomantra.in
END:VEVENT
BEGIN:VEVENT
DTSTART;VALUE=DATE:20170624
DTEND;VALUE=DATE:20170625
DTSTAMP:20260423T151123
CREATED:20170620T121740Z
LAST-MODIFIED:20170620T121914Z
UID:823-1498262400-1498348799@physiomantra.in
SUMMARY:Women's Health: PCOD/PCOS Management Camp
DESCRIPTION:en
URL:https://physiomantra.in/event/womens-health-pcodpcos-management-camp/
LOCATION:Posture Clinic\, HSR Layout\, bangalore\, India
ORGANIZER;CN="Physio Mantra":MAILTO:info@physiomantra.in
END:VEVENT
END:VCALENDAR